Package: wavClusteR Version: 2.26.0 Command: /Library/Frameworks/R.framework/Versions/Current/Resources/bin/R CMD check --install=check:wavClusteR.install-out.txt --library=/Library/Frameworks/R.framework/Versions/Current/Resources/library --no-vignettes --timings wavClusteR_2.26.0.tar.gz StartedAt: 2021-10-15 01:12:59 -0400 (Fri, 15 Oct 2021) EndedAt: 2021-10-15 01:19:21 -0400 (Fri, 15 Oct 2021) EllapsedTime: 382.3 seconds RetCode: 0 Status: OK CheckDir: wavClusteR.Rcheck Warnings: 0