git_url: https://git.bioconductor.org/packages/wavClusteR git_branch: RELEASE_3_13 git_last_commit: 14989df git_last_commit_date: 2021-05-19 12:05:25 -0400 (Wed, 19 May 2021) Package: wavClusteR Version: 2.26.0 Maintainer: Federico Comoglio MaintainerEmail: federico.comoglio at gmail.com