Package: vtpnet Version: 0.32.0 Command: /home/biocbuild/bbs-3.13-bioc/R/bin/R CMD build --keep-empty-dirs --no-resave-data vtpnet StartedAt: 2021-10-14 08:40:09 -0400 (Thu, 14 Oct 2021) EndedAt: 2021-10-14 08:41:36 -0400 (Thu, 14 Oct 2021) EllapsedTime: 87.3 seconds RetCode: 0 Status: OK PackageFile: vtpnet_0.32.0.tar.gz PackageFileSize: 20.12 MiB