Package: vtpnet Version: 0.32.0 Command: /Library/Frameworks/R.framework/Versions/Current/Resources/bin/R CMD check --install=check:vtpnet.install-out.txt --library=/Library/Frameworks/R.framework/Versions/Current/Resources/library --no-vignettes --timings vtpnet_0.32.0.tar.gz StartedAt: 2021-10-15 01:10:54 -0400 (Fri, 15 Oct 2021) EndedAt: 2021-10-15 01:17:19 -0400 (Fri, 15 Oct 2021) EllapsedTime: 384.7 seconds RetCode: 0 Status: OK CheckDir: vtpnet.Rcheck Warnings: 0