Package: vtpnet Version: 0.32.0 Command: rm -rf vtpnet.buildbin-libdir && mkdir vtpnet.buildbin-libdir && /Users/biocbuild/BBS/utils/build-universal.sh vtpnet_0.32.0.tar.gz /Library/Frameworks/R.framework/Versions/Current/Resources/bin/R vtpnet.buildbin-libdir StartedAt: 2021-10-15 04:22:09 -0400 (Fri, 15 Oct 2021) EndedAt: 2021-10-15 04:23:20 -0400 (Fri, 15 Oct 2021) EllapsedTime: 70.4 seconds RetCode: 0 Status: OK PackageFile: vtpnet_0.32.0.tgz PackageFileSize: 20.13 MiB