git_url: https://git.bioconductor.org/packages/vtpnet git_branch: RELEASE_3_13 git_last_commit: adfd187 git_last_commit_date: 2021-05-19 11:59:05 -0400 (Wed, 19 May 2021) Package: vtpnet Version: 0.32.0 Maintainer: VJ Carey MaintainerEmail: stvjc at channing.harvard.edu