Package: vissE Version: 1.0.0 Command: /home/biocbuild/bbs-3.13-bioc/R/bin/R CMD build --keep-empty-dirs --no-resave-data vissE StartedAt: 2021-10-14 08:40:00 -0400 (Thu, 14 Oct 2021) EndedAt: 2021-10-14 08:43:08 -0400 (Thu, 14 Oct 2021) EllapsedTime: 188.7 seconds RetCode: 0 Status: OK PackageFile: vissE_1.0.0.tar.gz PackageFileSize: 4.301 MiB