Package: vissE Version: 1.0.0 Command: rm -rf vissE.buildbin-libdir && mkdir vissE.buildbin-libdir && /Users/biocbuild/BBS/utils/build-universal.sh vissE_1.0.0.tar.gz /Library/Frameworks/R.framework/Versions/Current/Resources/bin/R vissE.buildbin-libdir StartedAt: 2021-10-15 04:21:54 -0400 (Fri, 15 Oct 2021) EndedAt: 2021-10-15 04:23:03 -0400 (Fri, 15 Oct 2021) EllapsedTime: 69.7 seconds RetCode: 0 Status: OK PackageFile: vissE_1.0.0.tgz PackageFileSize: 4.444 MiB