Package: velociraptor Version: 1.2.0 Command: rm -rf velociraptor.buildbin-libdir && mkdir velociraptor.buildbin-libdir && C:\Users\biocbuild\bbs-3.13-bioc\R\bin\R.exe --arch x64 CMD INSTALL --no-multiarch --build --library=velociraptor.buildbin-libdir velociraptor_1.2.0.tar.gz StartedAt: 2021-10-15 12:22:38 -0400 (Fri, 15 Oct 2021) EndedAt: 2021-10-15 12:23:47 -0400 (Fri, 15 Oct 2021) EllapsedTime: 69.0 seconds RetCode: 0 Status: OK PackageFile: velociraptor_1.2.0.zip PackageFileSize: 600.2 KiB