Package: unifiedWMWqPCR Version: 1.28.0 Command: /Library/Frameworks/R.framework/Versions/Current/Resources/bin/R CMD check --install=check:unifiedWMWqPCR.install-out.txt --library=/Library/Frameworks/R.framework/Versions/Current/Resources/library --no-vignettes --timings unifiedWMWqPCR_1.28.0.tar.gz StartedAt: 2021-10-15 01:03:44 -0400 (Fri, 15 Oct 2021) EndedAt: 2021-10-15 01:04:45 -0400 (Fri, 15 Oct 2021) EllapsedTime: 60.9 seconds RetCode: 0 Status: WARNINGS CheckDir: unifiedWMWqPCR.Rcheck Warnings: 1