Package: uSORT Version: 1.18.0 Command: C:\Users\biocbuild\bbs-3.13-bioc\R\bin\R.exe CMD check --force-multiarch --install=check:uSORT.install-out.txt --library=C:\Users\biocbuild\bbs-3.13-bioc\R\library --no-vignettes --timings uSORT_1.18.0.tar.gz StartedAt: 2021-10-15 07:06:09 -0400 (Fri, 15 Oct 2021) EndedAt: 2021-10-15 07:10:16 -0400 (Fri, 15 Oct 2021) EllapsedTime: 246.6 seconds RetCode: 0 Status: WARNINGS CheckDir: uSORT.Rcheck Warnings: 1