Package: uSORT Version: 1.18.0 Command: /home/biocbuild/bbs-3.13-bioc/R/bin/R CMD INSTALL uSORT StartedAt: 2021-10-14 06:34:45 -0400 (Thu, 14 Oct 2021) EndedAt: 2021-10-14 06:35:00 -0400 (Thu, 14 Oct 2021) EllapsedTime: 15.0 seconds RetCode: 0 Status: OK