Package: tximeta Version: 1.10.0 Command: C:\cygwin\bin\curl.exe -O http://155.52.207.165/BBS/3.13/bioc/src/contrib/tximeta_1.10.0.tar.gz && rm -rf tximeta.buildbin-libdir && mkdir tximeta.buildbin-libdir && C:\Users\biocbuild\bbs-3.13-bioc\R\bin\R.exe CMD INSTALL --merge-multiarch --build --library=tximeta.buildbin-libdir tximeta_1.10.0.tar.gz && C:\Users\biocbuild\bbs-3.13-bioc\R\bin\R.exe CMD INSTALL tximeta_1.10.0.zip && rm tximeta_1.10.0.tar.gz tximeta_1.10.0.zip StartedAt: 2021-10-14 10:36:15 -0400 (Thu, 14 Oct 2021) EndedAt: 2021-10-14 10:37:10 -0400 (Thu, 14 Oct 2021) EllapsedTime: 55.0 seconds RetCode: 0 Status: OK