Package: tximeta Version: 1.10.0 Command: /home/biocbuild/bbs-3.13-bioc/R/bin/R CMD build --keep-empty-dirs --no-resave-data tximeta StartedAt: 2021-10-14 08:38:13 -0400 (Thu, 14 Oct 2021) EndedAt: 2021-10-14 08:39:35 -0400 (Thu, 14 Oct 2021) EllapsedTime: 82.8 seconds RetCode: 0 Status: OK PackageFile: tximeta_1.10.0.tar.gz PackageFileSize: 978.4 KiB