git_url: https://git.bioconductor.org/packages/tximeta git_branch: RELEASE_3_13 git_last_commit: da94a30 git_last_commit_date: 2021-05-19 12:37:40 -0400 (Wed, 19 May 2021) Package: tximeta Version: 1.10.0 Maintainer: Michael Love MaintainerEmail: michaelisaiahlove at gmail.com