Package: twilight Version: 1.68.0 Command: /home/biocbuild/bbs-3.13-bioc/R/bin/R CMD build --keep-empty-dirs --no-resave-data twilight StartedAt: 2021-10-14 08:38:09 -0400 (Thu, 14 Oct 2021) EndedAt: 2021-10-14 08:39:18 -0400 (Thu, 14 Oct 2021) EllapsedTime: 69.9 seconds RetCode: 0 Status: OK PackageFile: twilight_1.68.0.tar.gz PackageFileSize: 945.6 KiB