Package: twilight Version: 1.68.0 Command: rm -rf twilight.buildbin-libdir && mkdir twilight.buildbin-libdir && /Users/biocbuild/BBS/utils/build-universal.sh twilight_1.68.0.tar.gz /Library/Frameworks/R.framework/Versions/Current/Resources/bin/R twilight.buildbin-libdir StartedAt: 2021-10-15 04:19:06 -0400 (Fri, 15 Oct 2021) EndedAt: 2021-10-15 04:20:17 -0400 (Fri, 15 Oct 2021) EllapsedTime: 70.8 seconds RetCode: 0 Status: OK PackageFile: twilight_1.68.0.tgz PackageFileSize: 973.7 KiB