Package: tweeDEseq Version: 1.38.0 Command: C:\Users\biocbuild\bbs-3.13-bioc\R\bin\R.exe CMD check --force-multiarch --install=check:tweeDEseq.install-out.txt --library=C:\Users\biocbuild\bbs-3.13-bioc\R\library --no-vignettes --timings tweeDEseq_1.38.0.tar.gz StartedAt: 2021-10-15 07:02:34 -0400 (Fri, 15 Oct 2021) EndedAt: 2021-10-15 07:03:42 -0400 (Fri, 15 Oct 2021) EllapsedTime: 67.9 seconds RetCode: 0 Status: OK CheckDir: tweeDEseq.Rcheck Warnings: 0