Package: tweeDEseq Version: 1.38.0 Command: /Library/Frameworks/R.framework/Versions/Current/Resources/bin/R CMD check --install=check:tweeDEseq.install-out.txt --library=/Library/Frameworks/R.framework/Versions/Current/Resources/library --no-vignettes --timings tweeDEseq_1.38.0.tar.gz StartedAt: 2021-10-15 01:01:37 -0400 (Fri, 15 Oct 2021) EndedAt: 2021-10-15 01:02:34 -0400 (Fri, 15 Oct 2021) EllapsedTime: 56.1 seconds RetCode: 0 Status: OK CheckDir: tweeDEseq.Rcheck Warnings: 0