Package: tweeDEseq Version: 1.38.0 Command: rm -rf tweeDEseq.buildbin-libdir && mkdir tweeDEseq.buildbin-libdir && /Users/biocbuild/BBS/utils/build-universal.sh tweeDEseq_1.38.0.tar.gz /Library/Frameworks/R.framework/Versions/Current/Resources/bin/R tweeDEseq.buildbin-libdir StartedAt: 2021-10-15 04:19:01 -0400 (Fri, 15 Oct 2021) EndedAt: 2021-10-15 04:20:12 -0400 (Fri, 15 Oct 2021) EllapsedTime: 71.0 seconds RetCode: 0 Status: OK PackageFile: tweeDEseq_1.38.0.tgz PackageFileSize: 474.3 KiB