Package: ttgsea Version: 1.0.0 Command: chmod a+r ttgsea -R && C:\Users\biocbuild\bbs-3.13-bioc\R\bin\R.exe CMD build --keep-empty-dirs --no-resave-data ttgsea StartedAt: 2021-10-14 18:57:59 -0400 (Thu, 14 Oct 2021) EndedAt: 2021-10-14 18:59:44 -0400 (Thu, 14 Oct 2021) EllapsedTime: 104.7 seconds RetCode: 0 Status: OK PackageFile: ttgsea_1.0.0.tar.gz PackageFileSize: 905.4 KiB