Package: ttgsea Version: 1.0.0 Command: /home/biocbuild/bbs-3.13-bioc/R/bin/R CMD build --keep-empty-dirs --no-resave-data ttgsea StartedAt: 2021-10-14 08:37:57 -0400 (Thu, 14 Oct 2021) EndedAt: 2021-10-14 08:38:51 -0400 (Thu, 14 Oct 2021) EllapsedTime: 53.6 seconds RetCode: 0 Status: OK PackageFile: ttgsea_1.0.0.tar.gz PackageFileSize: 904.6 KiB