Package: ttgsea Version: 1.0.0 Command: /Library/Frameworks/R.framework/Versions/Current/Resources/bin/R CMD check --install=check:ttgsea.install-out.txt --library=/Library/Frameworks/R.framework/Versions/Current/Resources/library --no-vignettes --timings ttgsea_1.0.0.tar.gz StartedAt: 2021-10-15 01:00:29 -0400 (Fri, 15 Oct 2021) EndedAt: 2021-10-15 01:03:28 -0400 (Fri, 15 Oct 2021) EllapsedTime: 179.5 seconds RetCode: 0 Status: OK CheckDir: ttgsea.Rcheck Warnings: 0