Package: tscR Version: 1.4.0 Command: /home/biocbuild/bbs-3.13-bioc/R/bin/R CMD build --keep-empty-dirs --no-resave-data tscR StartedAt: 2021-10-14 08:37:54 -0400 (Thu, 14 Oct 2021) EndedAt: 2021-10-14 08:38:29 -0400 (Thu, 14 Oct 2021) EllapsedTime: 35.0 seconds RetCode: 0 Status: OK PackageFile: tscR_1.4.0.tar.gz PackageFileSize: 1.852 MiB