Package: triplex Version: 1.32.0 Command: /Library/Frameworks/R.framework/Versions/Current/Resources/bin/R CMD check --install=check:triplex.install-out.txt --library=/Library/Frameworks/R.framework/Versions/Current/Resources/library --no-vignettes --timings triplex_1.32.0.tar.gz StartedAt: 2021-10-15 00:56:29 -0400 (Fri, 15 Oct 2021) EndedAt: 2021-10-15 00:58:53 -0400 (Fri, 15 Oct 2021) EllapsedTime: 144.5 seconds RetCode: 0 Status: WARNINGS CheckDir: triplex.Rcheck Warnings: 1