Package: trio Version: 3.30.0 Command: /home/biocbuild/bbs-3.13-bioc/R/bin/R CMD build --keep-empty-dirs --no-resave-data trio StartedAt: 2021-10-14 08:37:25 -0400 (Thu, 14 Oct 2021) EndedAt: 2021-10-14 08:38:11 -0400 (Thu, 14 Oct 2021) EllapsedTime: 45.6 seconds RetCode: 0 Status: OK PackageFile: trio_3.30.0.tar.gz PackageFileSize: 683.6 KiB