Package: treekoR Version: 1.0.0 Command: rm -rf treekoR.buildbin-libdir && mkdir treekoR.buildbin-libdir && C:\Users\biocbuild\bbs-3.13-bioc\R\bin\R.exe CMD INSTALL --merge-multiarch --build --library=treekoR.buildbin-libdir treekoR_1.0.0.tar.gz StartedAt: 2021-10-15 12:16:44 -0400 (Fri, 15 Oct 2021) EndedAt: 2021-10-15 12:18:17 -0400 (Fri, 15 Oct 2021) EllapsedTime: 93.1 seconds RetCode: 0 Status: OK PackageFile: treekoR_1.0.0.zip PackageFileSize: 1.535 MiB