Package: treeio Version: 1.16.2 Command: /home/biocbuild/bbs-3.13-bioc/R/bin/R CMD INSTALL treeio StartedAt: 2021-10-14 06:17:54 -0400 (Thu, 14 Oct 2021) EndedAt: 2021-10-14 06:18:00 -0400 (Thu, 14 Oct 2021) EllapsedTime: 5.3 seconds RetCode: 0 Status: OK