Package: treeio Version: 1.16.2 Command: /home/biocbuild/bbs-3.13-bioc/R/bin/R CMD check --install=check:treeio.install-out.txt --library=/home/biocbuild/bbs-3.13-bioc/R/library --no-vignettes --timings treeio_1.16.2.tar.gz StartedAt: 2021-10-14 11:55:59 -0400 (Thu, 14 Oct 2021) EndedAt: 2021-10-14 11:56:48 -0400 (Thu, 14 Oct 2021) EllapsedTime: 48.6 seconds RetCode: 0 Status: OK CheckDir: treeio.Rcheck Warnings: 0