Package: treeio Version: 1.16.2 Command: /home/biocbuild/bbs-3.13-bioc/R/bin/R CMD build --keep-empty-dirs --no-resave-data treeio StartedAt: 2021-10-14 08:36:59 -0400 (Thu, 14 Oct 2021) EndedAt: 2021-10-14 08:37:06 -0400 (Thu, 14 Oct 2021) EllapsedTime: 7.1 seconds RetCode: 0 Status: OK PackageFile: treeio_1.16.2.tar.gz PackageFileSize: 643.7 KiB