Package: treeio Version: 1.16.2 Command: /Library/Frameworks/R.framework/Versions/Current/Resources/bin/R CMD INSTALL treeio StartedAt: 2021-10-14 09:35:24 -0400 (Thu, 14 Oct 2021) EndedAt: 2021-10-14 09:36:13 -0400 (Thu, 14 Oct 2021) EllapsedTime: 49.8 seconds RetCode: 0 Status: OK