Package: traseR Version: 1.22.0 Command: /Library/Frameworks/R.framework/Versions/Current/Resources/bin/R CMD build --keep-empty-dirs --no-resave-data traseR StartedAt: 2021-10-14 15:25:13 -0400 (Thu, 14 Oct 2021) EndedAt: 2021-10-14 15:26:15 -0400 (Thu, 14 Oct 2021) EllapsedTime: 62.2 seconds RetCode: 0 Status: OK PackageFile: traseR_1.22.0.tar.gz PackageFileSize: 6.204 MiB