Package: transomics2cytoscape Version: 1.2.2 Command: /home/biocbuild/bbs-3.13-bioc/R/bin/R CMD check --install=check:transomics2cytoscape.install-out.txt --library=/home/biocbuild/bbs-3.13-bioc/R/library --no-vignettes --timings transomics2cytoscape_1.2.2.tar.gz StartedAt: 2021-10-14 11:55:31 -0400 (Thu, 14 Oct 2021) EndedAt: 2021-10-14 11:55:59 -0400 (Thu, 14 Oct 2021) EllapsedTime: 27.9 seconds RetCode: 0 Status: OK CheckDir: transomics2cytoscape.Rcheck Warnings: 0