Package: transomics2cytoscape Version: 1.2.2 Command: /home/biocbuild/bbs-3.13-bioc/R/bin/R CMD build --keep-empty-dirs --no-resave-data transomics2cytoscape StartedAt: 2021-10-14 08:36:47 -0400 (Thu, 14 Oct 2021) EndedAt: 2021-10-14 08:36:54 -0400 (Thu, 14 Oct 2021) EllapsedTime: 7.0 seconds RetCode: 0 Status: OK PackageFile: transomics2cytoscape_1.2.2.tar.gz PackageFileSize: 6.191 MiB