Package: transomics2cytoscape Version: 1.2.2 Command: /Library/Frameworks/R.framework/Versions/Current/Resources/bin/R CMD check --install=check:transomics2cytoscape.install-out.txt --library=/Library/Frameworks/R.framework/Versions/Current/Resources/library --no-vignettes --timings transomics2cytoscape_1.2.2.tar.gz StartedAt: 2021-10-15 00:53:16 -0400 (Fri, 15 Oct 2021) EndedAt: 2021-10-15 00:54:01 -0400 (Fri, 15 Oct 2021) EllapsedTime: 44.8 seconds RetCode: 0 Status: OK CheckDir: transomics2cytoscape.Rcheck Warnings: 0