Package: transcriptogramer Version: 1.14.0 Command: rm -rf transcriptogramer.buildbin-libdir && mkdir transcriptogramer.buildbin-libdir && /Users/biocbuild/BBS/utils/build-universal.sh transcriptogramer_1.14.0.tar.gz /Library/Frameworks/R.framework/Versions/Current/Resources/bin/R transcriptogramer.buildbin-libdir StartedAt: 2021-10-15 04:16:19 -0400 (Fri, 15 Oct 2021) EndedAt: 2021-10-15 04:17:34 -0400 (Fri, 15 Oct 2021) EllapsedTime: 74.7 seconds RetCode: 0 Status: OK PackageFile: transcriptogramer_1.14.0.tgz PackageFileSize: 5.923 MiB