git_url: https://git.bioconductor.org/packages/topdownr git_branch: RELEASE_3_13 git_last_commit: 8a127d3 git_last_commit_date: 2021-05-19 12:31:23 -0400 (Wed, 19 May 2021) Package: topdownr Version: 1.14.0 Maintainer: Sebastian Gibb MaintainerEmail: mail at sebastiangibb.de