Package: tomoda Version: 1.2.0 Command: chmod a+r tomoda -R && C:\Users\biocbuild\bbs-3.13-bioc\R\bin\R.exe CMD build --keep-empty-dirs --no-resave-data tomoda StartedAt: 2021-10-14 18:50:03 -0400 (Thu, 14 Oct 2021) EndedAt: 2021-10-14 18:51:28 -0400 (Thu, 14 Oct 2021) EllapsedTime: 84.6 seconds RetCode: 0 Status: OK PackageFile: tomoda_1.2.0.tar.gz PackageFileSize: 1.896 MiB