Package: tofsims Version: 1.20.0 Command: chmod a+r tofsims -R && C:\Users\biocbuild\bbs-3.13-bioc\R\bin\R.exe CMD build --keep-empty-dirs --no-resave-data tofsims StartedAt: 2021-10-14 18:49:55 -0400 (Thu, 14 Oct 2021) EndedAt: 2021-10-14 18:52:10 -0400 (Thu, 14 Oct 2021) EllapsedTime: 134.9 seconds RetCode: 0 Status: OK PackageFile: tofsims_1.20.0.tar.gz PackageFileSize: 265.9 KiB