Package: tofsims Version: 1.20.0 Command: /Library/Frameworks/R.framework/Versions/Current/Resources/bin/R CMD build --keep-empty-dirs --no-resave-data tofsims StartedAt: 2021-10-14 15:22:16 -0400 (Thu, 14 Oct 2021) EndedAt: 2021-10-14 15:23:50 -0400 (Thu, 14 Oct 2021) EllapsedTime: 94.2 seconds RetCode: 0 Status: OK PackageFile: tofsims_1.20.0.tar.gz PackageFileSize: 340.5 KiB