Package: tkWidgets Version: 1.70.0 Command: C:\Users\biocbuild\bbs-3.13-bioc\R\bin\R.exe CMD check --force-multiarch --install=check:tkWidgets.install-out.txt --library=C:\Users\biocbuild\bbs-3.13-bioc\R\library --no-vignettes --timings tkWidgets_1.70.0.tar.gz StartedAt: 2021-10-15 06:41:36 -0400 (Fri, 15 Oct 2021) EndedAt: 2021-10-15 06:42:41 -0400 (Fri, 15 Oct 2021) EllapsedTime: 64.3 seconds RetCode: 0 Status: OK CheckDir: tkWidgets.Rcheck Warnings: 0