Package: tkWidgets Version: 1.70.0 Command: /Library/Frameworks/R.framework/Versions/Current/Resources/bin/R CMD check --install=check:tkWidgets.install-out.txt --library=/Library/Frameworks/R.framework/Versions/Current/Resources/library --no-vignettes --timings tkWidgets_1.70.0.tar.gz StartedAt: 2021-10-15 00:46:35 -0400 (Fri, 15 Oct 2021) EndedAt: 2021-10-15 00:47:34 -0400 (Fri, 15 Oct 2021) EllapsedTime: 58.5 seconds RetCode: 0 Status: OK CheckDir: tkWidgets.Rcheck Warnings: 0