Package: timescape Version: 1.16.0 Command: /Library/Frameworks/R.framework/Versions/Current/Resources/bin/R CMD check --install=check:timescape.install-out.txt --library=/Library/Frameworks/R.framework/Versions/Current/Resources/library --no-vignettes --timings timescape_1.16.0.tar.gz StartedAt: 2021-10-15 00:45:08 -0400 (Fri, 15 Oct 2021) EndedAt: 2021-10-15 00:45:33 -0400 (Fri, 15 Oct 2021) EllapsedTime: 25.0 seconds RetCode: 0 Status: WARNINGS CheckDir: timescape.Rcheck Warnings: 1