git_url: https://git.bioconductor.org/packages/timescape git_branch: RELEASE_3_13 git_last_commit: 9a1760d git_last_commit_date: 2021-05-19 12:26:03 -0400 (Wed, 19 May 2021) Package: timescape Version: 1.16.0 Maintainer: Maia Smith MaintainerEmail: maiaannesmith at gmail.com