############################################################################## ############################################################################## ### ### Running command: ### ### C:\cygwin\bin\curl.exe -O http://155.52.207.165/BBS/3.13/bioc/src/contrib/timeOmics_1.4.0.tar.gz && rm -rf timeOmics.buildbin-libdir && mkdir timeOmics.buildbin-libdir && C:\Users\biocbuild\bbs-3.13-bioc\R\bin\R.exe CMD INSTALL --merge-multiarch --build --library=timeOmics.buildbin-libdir timeOmics_1.4.0.tar.gz && C:\Users\biocbuild\bbs-3.13-bioc\R\bin\R.exe CMD INSTALL timeOmics_1.4.0.zip && rm timeOmics_1.4.0.tar.gz timeOmics_1.4.0.zip ### ############################################################################## ############################################################################## % Total % Received % Xferd Average Speed Time Time Time Current Dload Upload Total Spent Left Speed 0 0 0 0 0 0 0 0 --:--:-- --:--:-- --:--:-- 0 0 0 0 0 0 0 0 0 --:--:-- --:--:-- --:--:-- 0 100 2085k 100 2085k 0 0 3063k 0 --:--:-- --:--:-- --:--:-- 3062k install for i386 * installing *source* package 'timeOmics' ... ** using staged installation ** R ** data *** moving datasets to lazyload DB ** inst ** byte-compile and prepare package for lazy loading Note: wrong number of arguments to '*' ** help *** installing help indices converting help for package 'timeOmics' finding HTML links ... done dmatrix.spearman.dissimilarity html getCluster html getNcomp html getSilhouette html getUpDownCluster html get_demo_cluster html get_demo_silhouette html lmms.filter.lines html plotLong html proportionality html timeOmics.simdata html tuneCluster.block.spls html tuneCluster.spca html tuneCluster.spls html unscale html *** copying figures ** building package indices ** installing vignettes ** testing if installed package can be loaded from temporary location ** testing if installed package can be loaded from final location ** testing if installed package keeps a record of temporary installation path install for x64 * installing *source* package 'timeOmics' ... ** testing if installed package can be loaded * MD5 sums packaged installation of 'timeOmics' as timeOmics_1.4.0.zip * DONE (timeOmics) * installing to library 'C:/Users/biocbuild/bbs-3.13-bioc/R/library' package 'timeOmics' successfully unpacked and MD5 sums checked