Package: tigre Version: 1.46.0 Command: C:\cygwin\bin\curl.exe -O http://155.52.207.165/BBS/3.13/bioc/src/contrib/tigre_1.46.0.tar.gz && rm -rf tigre.buildbin-libdir && mkdir tigre.buildbin-libdir && C:\Users\biocbuild\bbs-3.13-bioc\R\bin\R.exe CMD INSTALL --merge-multiarch --build --library=tigre.buildbin-libdir tigre_1.46.0.tar.gz && C:\Users\biocbuild\bbs-3.13-bioc\R\bin\R.exe CMD INSTALL tigre_1.46.0.zip && rm tigre_1.46.0.tar.gz tigre_1.46.0.zip StartedAt: 2021-10-14 09:11:22 -0400 (Thu, 14 Oct 2021) EndedAt: 2021-10-14 09:12:08 -0400 (Thu, 14 Oct 2021) EllapsedTime: 45.5 seconds RetCode: 0 Status: OK