Package: tigre Version: 1.46.0 Command: /home/biocbuild/bbs-3.13-bioc/R/bin/R CMD INSTALL tigre StartedAt: 2021-10-14 06:16:09 -0400 (Thu, 14 Oct 2021) EndedAt: 2021-10-14 06:16:27 -0400 (Thu, 14 Oct 2021) EllapsedTime: 18.1 seconds RetCode: 0 Status: OK