Package: tigre Version: 1.46.0 Command: /home/biocbuild/bbs-3.13-bioc/R/bin/R CMD build --keep-empty-dirs --no-resave-data tigre StartedAt: 2021-10-14 08:34:41 -0400 (Thu, 14 Oct 2021) EndedAt: 2021-10-14 08:37:43 -0400 (Thu, 14 Oct 2021) EllapsedTime: 181.8 seconds RetCode: 0 Status: OK PackageFile: tigre_1.46.0.tar.gz PackageFileSize: 309.5 KiB