Package: tigre Version: 1.46.0 Command: /Library/Frameworks/R.framework/Versions/Current/Resources/bin/R CMD INSTALL tigre StartedAt: 2021-10-14 09:22:04 -0400 (Thu, 14 Oct 2021) EndedAt: 2021-10-14 09:22:57 -0400 (Thu, 14 Oct 2021) EllapsedTime: 53.0 seconds RetCode: 0 Status: OK