Package: tigre Version: 1.46.0 Command: /Library/Frameworks/R.framework/Versions/Current/Resources/bin/R CMD check --install=check:tigre.install-out.txt --library=/Library/Frameworks/R.framework/Versions/Current/Resources/library --no-vignettes --timings tigre_1.46.0.tar.gz StartedAt: 2021-10-15 00:43:10 -0400 (Fri, 15 Oct 2021) EndedAt: 2021-10-15 00:46:14 -0400 (Fri, 15 Oct 2021) EllapsedTime: 183.6 seconds RetCode: 0 Status: OK CheckDir: tigre.Rcheck Warnings: 0